Workbook

Sheet Simple Fare Schedule Print
A1: 2027 PROPOSED RATE SCHEDULE | B1: POSTED FARE
A2: Posted Fares Include Surcharge | B2: 2026 CURRENT FARE | D2: 2027 PROPOSED FARE
A3: FARES | B3: NON PEAK | C3: PEAK | D3: NON PEAK | E3: PEAK
A4: PASSENGER
A5: Adult | B5: ='Fare Schedules Print '!H8 -> 6.75 | C5: ='Fare Schedules Print '!I8 -> 8.5 | D5: ='Fare Schedules Print '!J8 -> 7.5 | E5: ='Fare Schedules Print '!K8 -> 9.5
A6: Senior (+65)/Disabled | B6: ='Fare Schedules Print '!H9 -> 4.5 | C6: ='Fare Schedules Print '!I9 -> 5 | D6: ='Fare Schedules Print '!J9 -> 5 | E6: ='Fare Schedules Print '!K9 -> 5.75
A7: Youth - 18 and under | B7: ='Fare Schedules Print '!H10 -> Free | C7: ='Fare Schedules Print '!I10 -> Free | D7: ='Fare Schedules Print '!J10 -> Free | E7: ='Fare Schedules Print '!K10 -> Free
A8: Rider & Bicycle | B8: ='Fare Schedules Print '!H11 -> 8.5 | C8: ='Fare Schedules Print '!I11 -> 10.75 | D8: ='Fare Schedules Print '!J11 -> 9.5 | E8: ='Fare Schedules Print '!K11 -> 12
A9: Riders & Bicycle senior/disabled | B9: ='Fare Schedules Print '!H12 -> 6.5 | C9: ='Fare Schedules Print '!I12 -> 7.25 | D9: ='Fare Schedules Print '!J12 -> 7.25 | E9: ='Fare Schedules Print '!K12 -> 8.25
A10: PASSENGER MULTI RIDE (1)
A11: 25 trip adult passengers | B11: ='Fare Schedules Print '!H14 -> 153.75 | C11: ='Fare Schedules Print '!I14 -> 197.5 | D11: ='Fare Schedules Print '!J14 -> 172.5 | E11: ='Fare Schedules Print '!K14 -> 222.5
A12: 25 trip senior/disabled | B12: ='Fare Schedules Print '!H15 -> 106 | C12: ='Fare Schedules Print '!I15 -> 118.5 | D12: ='Fare Schedules Print '!J15 -> 118.5 | E12: ='Fare Schedules Print '!K15 -> 137.25
A13: VEHICLE (22 FT OR LESS INLCUDING OVERHANG)
A14: Motorcycle & rider | B14: ='Fare Schedules Print '!H17 -> 12.5 | C14: ='Fare Schedules Print '!I17 -> 17.5 | D14: ='Fare Schedules Print '!J17 -> 14 | E14: ='Fare Schedules Print '!K17 -> 19.75
A15: Vehicle/driver under 22 feet | B15: ='Fare Schedules Print '!H18 -> 21.5 | C15: ='Fare Schedules Print '!I18 -> 26.5 | D15: ='Fare Schedules Print '!J18 -> 24.25 | E15: ='Fare Schedules Print '!K18 -> 29.75
A16: Vehicle/driver senior/disabled under 22 feet | B16: ='Fare Schedules Print '!H19 -> 17.5 | C16: ='Fare Schedules Print '!I19 -> 21.5 | D16: ='Fare Schedules Print '!J19 -> 19.75 | E16: ='Fare Schedules Print '!K19 -> 24.25
A17: VEHICLE & DRIVER MULTI-RIDE (1)
A18: 20 trip under 22 feet | B18: ='Fare Schedules Print '!H21 -> 416 | C18: ='Fare Schedules Print '!I21 -> 496 | D18: ='Fare Schedules Print '!J21 -> 471 | E18: ='Fare Schedules Print '!K21 -> 561
A19: 20 trip under 22 feet senior/disabled | B19: ='Fare Schedules Print '!H22 -> 330 | C19: ='Fare Schedules Print '!I22 -> 410 | D19: ='Fare Schedules Print '!J22 -> 375 | E19: ='Fare Schedules Print '!K22 -> 465
A20: 20 trip Motorcycle | B20: ='Fare Schedules Print '!H23 -> 245 | C20: ='Fare Schedules Print '!I23 -> 325 | D20: ='Fare Schedules Print '!J23 -> 275 | E20: ='Fare Schedules Print '!K23 -> 370
A21: VEHICLE NEEDS BASED
A22: 5 trip needs based | B22: ='Fare Schedules Print '!H25 -> 71 | C22: ='Fare Schedules Print '!I25 -> 88 | D22: ='Fare Schedules Print '!J25 -> 80.5 | E22: ='Fare Schedules Print '!K25 -> 99.5
A23: OVERSIZED VEHICLES
A24: Over 22 feet under 30 feet | B24: ='Fare Schedules Print '!H27 -> 33.5 | C24: ='Fare Schedules Print '!I27 -> 42 | D24: ='Fare Schedules Print '!J27 -> 37.75 | E24: ='Fare Schedules Print '!K27 -> 47
A25: Under 40 feet | B25: ='Fare Schedules Print '!H28 -> 66.25 | C25: ='Fare Schedules Print '!I28 -> 80.5 | D25: ='Fare Schedules Print '!J28 -> 74.5 | E25: ='Fare Schedules Print '!K28 -> 90.25
A26: Under 50 feet | B26: ='Fare Schedules Print '!H29 -> 99 | C26: ='Fare Schedules Print '!I29 -> 123.25 | D26: ='Fare Schedules Print '!J29 -> 111.25 | E26: ='Fare Schedules Print '!K29 -> 138
A27: Under 60 feet | B27: ='Fare Schedules Print '!H30 -> 144.5 | C27: ='Fare Schedules Print '!I30 -> 168.5 | D27: ='Fare Schedules Print '!J30 -> 162 | E27: ='Fare Schedules Print '!K30 -> 188.75
A28: Each 10 foot over 60 | B28: ='Fare Schedules Print '!H31 -> 24.75 | C28: ='Fare Schedules Print '!I31 -> 28.5 | D28: ='Fare Schedules Print '!J31 -> 27.75 | E28: ='Fare Schedules Print '!K31 -> 32
A29: Over width charge (over 8 feet 6 inches) | B29: Double Length Charge | D29: Double Length Charge
A30: OVERSIZED VEHICLES 5 TRIP CONVENIENCE CARD
A31: Over 22 feet under 30 feet | B31: ='Fare Schedules Print '!H34 -> 167.5 | C31: ='Fare Schedules Print '!I34 -> 210 | D31: ='Fare Schedules Print '!J34 -> 188.75 | E31: ='Fare Schedules Print '!K34 -> 235
A32: Under 40 feet | B32: ='Fare Schedules Print '!H35 -> 331.25 | C32: ='Fare Schedules Print '!I35 -> 402.5 | D32: ='Fare Schedules Print '!J35 -> 372.5 | E32: ='Fare Schedules Print '!K35 -> 451.25
A33: Under 50 feet | B33: ='Fare Schedules Print '!H36 -> 495 | C33: ='Fare Schedules Print '!I36 -> 616.25 | D33: ='Fare Schedules Print '!J36 -> 556.25 | E33: ='Fare Schedules Print '!K36 -> 690
A34: Under 60 feet | B34: ='Fare Schedules Print '!H37 -> 722.5 | C34: ='Fare Schedules Print '!I37 -> 842.5 | D34: ='Fare Schedules Print '!J37 -> 810 | E34: ='Fare Schedules Print '!K37 -> 943.75
A35: MISCELLANEOUS
A36: Operating Hours Extra Run; cost per run; if vessel & crew is available; advanced reservations required | B36: ='26-27Cost&RevPerHour'!C72 -> 636.75657
A37: HAZMAT Run; cost per run; plus 35% market rate profit margin referencing RCW 47.60.135 | B37: ='26-27Cost&RevPerHour'!C73 -> 859.62137
A38: After-Hours Charter; if available (after-hours service is not guaranteed; cost per hour (3 hr. maximum) | B38: ='26-27Cost&RevPerHour'!C74 -> 2853.8291
A39: After-Hours Intergov. Emergency Services; if available (after-hours service is not guaranteed); plus actual costs for labor (salaries & benefits) | B39: ='26-27Cost&RevPerHour'!C75 -> 581.28971

Sheet Fare Schedules Print 
A1: 2026 Current and 2027 Proposed Fares
B2: O&M Fares Do Not Include Surcharge | H2: Posted Fares Include Surcharge
B4: 2026 Current | D4: 2027 Proposed | F4: Surcharge | H4: 2026 Current | J4: 2027 Proposed
B5: O&M | D5: O&M | F5: for Vessel Replacement | H5: Posted | J5: Posted
B6: Non Peak | C6: Peak | D6: Non Peak | E6: Peak | F6: Non Peak | G6: Peak | H6: Non Peak | I6: Peak | J6: Non Peak | K6: Peak
A7: PASSENGER (1)
A8: Adult | B8: =H8-F8 -> 5.75 | C8: =I8-G8 -> 7.5 | D8: ='Fare Inputs'!H90 -> 6.5 | E8: ='Fare Inputs'!I90 -> 8.5 | F8: 1 | G8: 1 | H8: ='Fare Inputs'!F90 -> 6.75 | I8: ='Fare Inputs'!G90 -> 8.5 | J8: ='Fare Inputs'!L90 -> 7.5 | K8: ='Fare Inputs'!M90 -> 9.5
A9: Senior/Disabled/Youth | B9: =H9-F9 -> 4 | C9: =I9-G9 -> 4.5 | D9: ='Fare Inputs'!H91 -> 4.5 | E9: ='Fare Inputs'!I91 -> 5.25 | F9: 0.5 | G9: 0.5 | H9: ='Fare Inputs'!F91 -> 4.5 | I9: ='Fare Inputs'!G91 -> 5 | J9: ='Fare Inputs'!L91 -> 5 | K9: ='Fare Inputs'!M91 -> 5.75
A10: Under 5 | B10: Free | C10: Free | D10: Free | E10: Free | H10: Free | I10: Free | J10: Free | K10: Free
A11: Rider & Bicycle | B11: =H11-F11 -> 7.5 | C11: =I11-G11 -> 9.75 | D11: ='Fare Inputs'!H93 -> 8.5 | E11: ='Fare Inputs'!I93 -> 11 | F11: 1 | G11: 1 | H11: ='Fare Inputs'!F93 -> 8.5 | I11: ='Fare Inputs'!G93 -> 10.75 | J11: ='Fare Inputs'!L93 -> 9.5 | K11: ='Fare Inputs'!M93 -> 12
A12: Riders & Bicycle senior/disabled/youth | B12: =H12-F12 -> 6 | C12: =I12-G12 -> 6.75 | D12: ='Fare Inputs'!H94 -> 6.75 | E12: ='Fare Inputs'!I94 -> 7.75 | F12: 0.5 | G12: 0.5 | H12: ='Fare Inputs'!F94 -> 6.5 | I12: ='Fare Inputs'!G94 -> 7.25 | J12: ='Fare Inputs'!L94 -> 7.25 | K12: ='Fare Inputs'!M94 -> 8.25
A13: PASSENGER CONVENIENCE PASS (2)
A14: 25 trip adult passengers | B14: =H14-F14 -> 143.75 | C14: =I14-G14 -> 187.5 | D14: ='Fare Inputs'!H96 -> 162.5 | E14: ='Fare Inputs'!I96 -> 212.5 | F14: 10 | G14: 10 | H14: ='Fare Inputs'!F96 -> 153.75 | I14: ='Fare Inputs'!G96 -> 197.5 | J14: ='Fare Inputs'!L96 -> 172.5 | K14: ='Fare Inputs'!M96 -> 222.5
A15: 25 trip senior/disabled/youth | B15: =H15-F15 -> 100 | C15: =I15-G15 -> 112.5 | D15: ='Fare Inputs'!H97 -> 112.5 | E15: ='Fare Inputs'!I97 -> 131.25 | F15: 6 | G15: 6 | H15: ='Fare Inputs'!F97 -> 106 | I15: ='Fare Inputs'!G97 -> 118.5 | J15: ='Fare Inputs'!L97 -> 118.5 | K15: ='Fare Inputs'!M97 -> 137.25
A16: VEHICLE & DRIVER (1)
A17: Motorcycle & rider | B17: =H17-F17 -> 11.5 | C17: =I17-G17 -> 15.5 | D17: ='Fare Inputs'!H100 -> 13 | E17: ='Fare Inputs'!I100 -> 17.75 | F17: 1 | G17: 2 | H17: ='Fare Inputs'!F100 -> 12.5 | I17: ='Fare Inputs'!G100 -> 17.5 | J17: ='Fare Inputs'!L100 -> 14 | K17: ='Fare Inputs'!M100 -> 19.75
A18: Vehicle/driver under 22 feet | B18: =H18-F18 -> 19.5 | C18: =I18-G18 -> 23.5 | D18: ='Fare Inputs'!H101 -> 22.25 | E18: ='Fare Inputs'!I101 -> 26.75 | F18: 2 | G18: 3 | H18: ='Fare Inputs'!F101 -> 21.5 | I18: ='Fare Inputs'!G101 -> 26.5 | J18: ='Fare Inputs'!L101 -> 24.25 | K18: ='Fare Inputs'!M101 -> 29.75
A19: Vehicle/driver senior/disabled under 22 feet | B19: =H19-F19 -> 15.5 | C19: =I19-G19 -> 19.5 | D19: ='Fare Inputs'!H102 -> 17.75 | E19: ='Fare Inputs'!I102 -> 22.25 | F19: 2 | G19: 2 | H19: ='Fare Inputs'!F102 -> 17.5 | I19: ='Fare Inputs'!G102 -> 21.5 | J19: ='Fare Inputs'!L102 -> 19.75 | K19: ='Fare Inputs'!M102 -> 24.25
A20: VEHICLE & DRIVER CONVENIENCE PASS (2)
A21: 20 trip under 22 feet | B21: =H21-F21 -> 390 | C21: =I21-G21 -> 470 | D21: ='Fare Inputs'!H104 -> 445 | E21: ='Fare Inputs'!I104 -> 535 | F21: 26 | G21: 26 | H21: ='Fare Inputs'!F104 -> 416 | I21: ='Fare Inputs'!G104 -> 496 | J21: ='Fare Inputs'!L104 -> 471 | K21: ='Fare Inputs'!M104 -> 561
A22: 20 trip under 22 feet senior/disabled | B22: =H22-F22 -> 310 | C22: =I22-G22 -> 390 | D22: ='Fare Inputs'!H105 -> 355 | E22: ='Fare Inputs'!I105 -> 445 | F22: 20 | G22: 20 | H22: ='Fare Inputs'!F105 -> 330 | I22: ='Fare Inputs'!G105 -> 410 | J22: ='Fare Inputs'!L105 -> 375 | K22: ='Fare Inputs'!M105 -> 465
A23: 20 trip Motorcycle | B23: =H23-F23 -> 230 | C23: =I23-G23 -> 310 | D23: ='Fare Inputs'!H106 -> 260 | E23: ='Fare Inputs'!I106 -> 355 | F23: 15 | G23: 15 | H23: ='Fare Inputs'!F106 -> 245 | I23: ='Fare Inputs'!G106 -> 325 | J23: ='Fare Inputs'!L106 -> 275 | K23: ='Fare Inputs'!M106 -> 370
A24: VEHICLE & SENIOR/DISABLED NEEDS-BASED PASS (2)
A25: 5 trip needs based | B25: =H25-F25 -> 66 | C25: =I25-G25 -> 83 | D25: ='Fare Inputs'!H108 -> 75.5 | E25: ='Fare Inputs'!I108 -> 94.5 | F25: 5 | G25: 5 | H25: ='Fare Inputs'!F108 -> 71 | I25: ='Fare Inputs'!G108 -> 88 | J25: ='Fare Inputs'!L108 -> 80.5 | K25: ='Fare Inputs'!M108 -> 99.5
A26: OVERSIZED VEHICLE & DRIVER (1)
A27: Over 22 feet under 30 feet | B27: =H27-F27 -> 29.5 | C27: =I27-G27 -> 36 | D27: ='Fare Inputs'!H110 -> 33.75 | E27: ='Fare Inputs'!I110 -> 41 | F27: 4 | G27: 6 | H27: ='Fare Inputs'!F110 -> 33.5 | I27: ='Fare Inputs'!G110 -> 42 | J27: ='Fare Inputs'!L110 -> 37.75 | K27: ='Fare Inputs'!M110 -> 47
A28: Under 40 feet | B28: =H28-F28 -> 58.25 | C28: =I28-G28 -> 69.5 | D28: ='Fare Inputs'!H111 -> 66.5 | E28: ='Fare Inputs'!I111 -> 79.25 | F28: 8 | G28: 11 | H28: ='Fare Inputs'!F111 -> 66.25 | I28: ='Fare Inputs'!G111 -> 80.5 | J28: ='Fare Inputs'!L111 -> 74.5 | K28: ='Fare Inputs'!M111 -> 90.25
A29: Under 50 feet | B29: =H29-F29 -> 88 | C29: =I29-G29 -> 105.25 | D29: ='Fare Inputs'!H112 -> 100.25 | E29: ='Fare Inputs'!I112 -> 120 | F29: 11 | G29: 18 | H29: ='Fare Inputs'!F112 -> 99 | I29: ='Fare Inputs'!G112 -> 123.25 | J29: ='Fare Inputs'!L112 -> 111.25 | K29: ='Fare Inputs'!M112 -> 138
A30: Under 60 feet | B30: =H30-F30 -> 125.5 | C30: =I30-G30 -> 145.5 | D30: ='Fare Inputs'!H113 -> 143 | E30: ='Fare Inputs'!I113 -> 165.75 | F30: 19 | G30: 23 | H30: ='Fare Inputs'!F113 -> 144.5 | I30: ='Fare Inputs'!G113 -> 168.5 | J30: ='Fare Inputs'!L113 -> 162 | K30: ='Fare Inputs'!M113 -> 188.75
A31: Each 10 foot increment over 60 feet | B31: =H31-F31 -> 20.75 | C31: =I31-G31 -> 24.5 | D31: ='Fare Inputs'!H114 -> 23.75 | E31: ='Fare Inputs'!I114 -> 28 | F31: 4 | G31: 4 | H31: ='Fare Inputs'!F114 -> 24.75 | I31: ='Fare Inputs'!G114 -> 28.5 | J31: ='Fare Inputs'!L114 -> 27.75 | K31: ='Fare Inputs'!M114 -> 32
A32: Over width charge | H32: Double Length Charge | J32: Double Length Charge
A33: OVERSIZED VEHICLE & DRIVER CONVENIENCE PASS (2)
A34: Over 22 feet under 30 feet | B34: =H34-F34 -> 147.5 | C34: =I34-G34 -> 180 | D34: ='Fare Inputs'!H118 -> 168.75 | E34: ='Fare Inputs'!I118 -> 205 | F34: 20 | G34: 30 | H34: ='Fare Inputs'!F118 -> 167.5 | I34: ='Fare Inputs'!G118 -> 210 | J34: ='Fare Inputs'!L118 -> 188.75 | K34: ='Fare Inputs'!M118 -> 235
A35: Under 40 feet | B35: =H35-F35 -> 291.25 | C35: =I35-G35 -> 347.5 | D35: ='Fare Inputs'!H119 -> 332.5 | E35: ='Fare Inputs'!I119 -> 396.25 | F35: 40 | G35: 55 | H35: ='Fare Inputs'!F119 -> 331.25 | I35: ='Fare Inputs'!G119 -> 402.5 | J35: ='Fare Inputs'!L119 -> 372.5 | K35: ='Fare Inputs'!M119 -> 451.25
A36: Under 50 feet | B36: =H36-F36 -> 440 | C36: =I36-G36 -> 526.25 | D36: ='Fare Inputs'!H120 -> 501.25 | E36: ='Fare Inputs'!I120 -> 600 | F36: 55 | G36: 90 | H36: ='Fare Inputs'!F120 -> 495 | I36: ='Fare Inputs'!G120 -> 616.25 | J36: ='Fare Inputs'!L120 -> 556.25 | K36: ='Fare Inputs'!M120 -> 690
A37: Under 60 feet | B37: =H37-F37 -> 627.5 | C37: =I37-G37 -> 727.5 | D37: ='Fare Inputs'!H121 -> 715 | E37: ='Fare Inputs'!I121 -> 828.75 | F37: 95 | G37: 115 | H37: ='Fare Inputs'!F121 -> 722.5 | I37: ='Fare Inputs'!G121 -> 842.5 | J37: ='Fare Inputs'!L121 -> 810 | K37: ='Fare Inputs'!M121 -> 943.75
A38: (1) For single-ride tickets: 14% fare increase applied to 2026 current O&M fare; rounded to the nearest quarter
A40: (2) For multi-ride passes: the 2027 proposed fare is equal to the 2027 proposed O&M fare for that category multiplied by the number of trips, except needs-based pass has 15% discount applied
D42: =SUM(D34:D37) -> 1717.5 | E42: =SUM(E34:E37) -> 2030 | J42: =SUM(J34:J37) -> 1927.5 | K42: =SUM(K34:K37) -> 2320

Sheet Fare Inputs
A2: 2026 Farebox Revenue Requirement | B2: 0.55 | D2: 2025 Farebox Revenue Requirement | H2: 0.5
A3: 2026 Farebox Revenue Target | B3: 2319876 | D3: 2025 Farebox Revenue Target | H3: 1818971
A4: 2026 Budgeted Farebox Revenue | B4: 1900000 | D4: 2025 Farebox Revenue | H4: 1455098
A5: Est. 2026 Shortage | B5: =B4-B3 -> -419876 | D5: 2025 Shortage | H5: =H3-H4 -> 363873
G6: 2025 FBP | H6: 604964
A7: 2027 Overall Fare Revenue Increase % | B7: 0.14
F8: Marie, this entire table is no longer needed. The table below with current/proposed is used - 7.26.24.
A9: Current Fare Structure | B9: Current Fares | H9: Proposed Fares | M9: Proposed Fares with $ Rounding
A10: RR Note: This table is not used for 2025 | B10: Without Surcharge | D10: Posted | F10: Surcharge | H10: Without Surcharge | J10: Posted | L10: Surcharge | M10: Without Surcharge | O10: Posted | Q10: Surcharge
B11: Non Peak | C11: Peak | D11: Non Peak | E11: Peak | F11: Non Peak | G11: Peak | H11: Non Peak | I11: Peak | J11: Non Peak | K11: Peak | M11: Non Peak | N11: Peak | O11: Non Peak | P11: Peak
A12: Passengers
A13: Adult | B13: =D13-F13 -> 3.5 | C13: =E13-G13 -> 4.5 | D13: 4.5 | E13: 5.5 | F13: 1 | G13: 1 | H13: =B13*(1+$B$7) -> 3.99 | I13: =C13*(1+$B$7) -> 5.13 | J13: =H13+F13 -> 4.99 | K13: =I13+G13 -> 6.13 | M13: =MROUND(H13,0.25) -> 4 | N13: =MROUND(I13,0.25) -> 5.25 | O13: =MROUND(J13,0.25) -> 5 | P13: =MROUND(K13,0.25) -> 6.25
A14: Senior/Disabled/Youth | B14: =D14-F14 -> 2.25 | C14: =E14-G14 -> 2.75 | D14: 2.25 | E14: 3.25 | G14: 0.5 | H14: =B14*(1+$B$7) -> 2.565 | I14: =C14*(1+$B$7) -> 3.135 | J14: =H14+F14 -> 2.565 | K14: =I14+G14 -> 3.635 | M14: =MROUND(H14,0.25) -> 2.5 | N14: =MROUND(I14,0.25) -> 3.25 | O14: =MROUND(J14,0.25) -> 2.5 | P14: =MROUND(K14,0.25) -> 3.75
A15: Youth 18 & Under | B15: 0 | C15: 0 | D15: 0 | E15: 0 | F15: 0 | G15: 0 | H15: =B15*(1+$B$7) -> 0 | I15: =C15*(1+$B$7) -> 0 | J15: =H15+F15 -> 0 | K15: =I15+G5 -> 0 | M15: =MROUND(H15,0.25) -> 0 | N15: =MROUND(I15,0.25) -> 0 | O15: =MROUND(J15,0.25) -> 0 | P15: =MROUND(K15,0.25) -> 0
A16: Bicycle | B16: =D16-F16 -> 4.5 | C16: =E16-G16 -> 5.75 | D16: 5.5 | E16: 6.75 | F16: 1 | G16: 1 | H16: =B16*(1+$B$7) -> 5.13 | I16: =C16*(1+$B$7) -> 6.555 | J16: =H16+F16 -> 6.13 | K16: =I16+G16 -> 7.555 | M16: =MROUND(H16,0.25) -> 5.25 | N16: =MROUND(I16,0.25) -> 6.5 | O16: =MROUND(J16,0.25) -> 6.25 | P16: =MROUND(K16,0.25) -> 7.5
A17: Bicycle senior/disabled | B17: =D17-F17 -> 3.5 | C17: =E17-G17 -> 4 | D17: 3.5 | E17: 4.5 | G17: 0.5 | H17: =B17*(1+$B$7) -> 3.99 | I17: =C17*(1+$B$7) -> 4.56 | J17: =H17+F17 -> 3.99 | K17: =I17+G17 -> 5.06 | M17: =MROUND(H17,0.25) -> 4 | N17: =MROUND(I17,0.25) -> 4.5 | O17: =MROUND(J17,0.25) -> 4 | P17: =MROUND(K17,0.25) -> 5
A18: Passenger Punchard
A19: 25 trip adult passengers | B19: =D19-F19 -> 74.5 | C19: =E19-G19 -> 74.5 | D19: 84.5 | E19: =D19 -> 84.5 | F19: 10 | G19: 10 | H19: =B19*(1+$B$7) -> 84.93 | I19: =C19*(1+$B$7) -> 84.93 | J19: =H19+F19 -> 94.93 | K19: =I19+G19 -> 94.93 | M19: =MROUND(H19,0.25) -> 85 | N19: =MROUND(I19,0.25) -> 85 | O19: =MROUND(J19,0.25) -> 95 | P19: =MROUND(K19,0.25) -> 95 | U19: =(J13*25)*0.85 -> 106.0375
A20: 25 trip senior/disabled | B20: =D20-F20 -> 47.75 | C20: =E20-G20 -> 47.75 | D20: 53.75 | E20: =D20 -> 53.75 | F20: 6 | G20: 6 | H20: =B20*(1+$B$7) -> 54.435 | I20: =C20*(1+$B$7) -> 54.435 | J20: =H20+F20 -> 60.435 | K20: =I20+G20 -> 60.435 | M20: =MROUND(H20,0.25) -> 54.5 | N20: =MROUND(I20,0.25) -> 54.5 | O20: =MROUND(J20,0.25) -> 60.5 | P20: =MROUND(K20,0.25) -> 60.5
A21: Vehicles | S21: stopped here with rounding
A22: Motorcycle & rider | B22: =D22-F22 -> 6.75 | C22: =E22-G22 -> 9.25 | D22: 7.75 | E22: 11.25 | F22: 1 | G22: 2 | H22: =B22*(1+$B$7) -> 7.695 | I22: =C22*(1+$B$7) -> 10.545 | J22: =H22+F22 -> 8.695 | K22: =I22+G22 -> 12.545 | M22: =ROUND(H22,0) -> 8 | N22: =ROUND(I22,0) -> 11 | O22: =ROUND(J22,0) -> 9 | P22: =ROUND(K22,0) -> 13
A23: Vehicle/driver under 20 feet | B23: =D23-F23 -> 11.5 | C23: =E23-G23 -> 13.75 | D23: 13.5 | E23: 16.75 | F23: 2 | G23: 3 | H23: =B23*(1+$B$7) -> 13.11 | I23: =C23*(1+$B$7) -> 15.675 | J23: =H23+F23 -> 15.11 | K23: =I23+G23 -> 18.675 | M23: =ROUND(H23,0) -> 13 | N23: =ROUND(I23,0) -> 16 | O23: =ROUND(J23,0) -> 15 | P23: =ROUND(K23,0) -> 19
A24: Vehicle/driver senior/disabled under 20 feet | B24: =D24-F24 -> 9.25 | C24: =E24-G24 -> 11.5 | D24: 11.25 | E24: 13.5 | F24: 2 | G24: 2 | H24: =B24*(1+$B$7) -> 10.545 | I24: =C24*(1+$B$7) -> 13.11 | J24: =H24+F24 -> 12.545 | K24: =I24+GF24 -> 13.11 | M24: =ROUND(H24,0) -> 11 | N24: =ROUND(I24,0) -> 13 | O24: =ROUND(J24,0) -> 13 | P24: =ROUND(K24,0) -> 13
A25: Vehicles & driver muti-ride
A26: 20 trip under 20 | B26: =D26-F26 -> 195.5 | C26: =E26-G26 -> 195.5 | D26: 221.5 | E26: =D26 -> 221.5 | F26: 26 | G26: 26 | H26: =B26*(1+$B$7) -> 222.87 | I26: =C26*(1+$B$7) -> 222.87 | J26: =H26+F26 -> 248.87 | K26: =I26+G26 -> 248.87 | M26: =ROUND(H26,0) -> 223 | N26: =ROUND(I26,0) -> 223 | O26: =ROUND(J26,0) -> 249 | P26: =ROUND(K26,0) -> 249
A27: 20 trip senior/disabled | B27: =D27-F27 -> 157.25 | C27: =E27-G27 -> 157.25 | D27: 177.25 | E27: =D27 -> 177.25 | F27: 20 | G27: 20 | H27: =B27*(1+$B$7) -> 179.265 | I27: =C27*(1+$B$7) -> 179.265 | J27: =H27+F27 -> 199.265 | K27: =I27+G27 -> 199.265 | M27: =ROUND(H27,0) -> 179 | N27: =ROUND(I27,0) -> 179 | O27: =ROUND(J27,0) -> 199 | P27: =ROUND(K27,0) -> 199
A28: 20 trip Motorcycle | B28: =D28-F28 -> 114.75 | C28: =E28-G28 -> 114.75 | D28: 129.75 | E28: =D28 -> 129.75 | F28: 15 | G28: 15 | H28: =B28*(1+$B$7) -> 130.815 | I28: =C28*(1+$B$7) -> 130.815 | J28: =H28+F28 -> 145.815 | K28: =I28+G28 -> 145.815 | M28: =ROUND(H28,0) -> 131 | N28: =ROUND(I28,0) -> 131 | O28: =ROUND(J28,0) -> 146 | P28: =ROUND(K28,0) -> 146
A29: Vehicle convenience
A30: Peak 10 trip vehicle | C30: 120 | E30: 150 | G30: 30 | H30: =B30*(1+$B$7) -> 0 | I30: =C30*(1+$B$7) -> 136.8 | J30: =H30+F30 -> 0 | K30: =E30*(1+$B$7) -> 171 | M30: =ROUND(H30,0) -> 0 | N30: =ROUND(I30,0) -> 137 | O30: =ROUND(J30,0) -> 0 | P30: =ROUND(K30,0) -> 171
A31: Peak 10 trip vehicle senior/disabled | C31: 100 | E31: 120 | G31: 20 | H31: =B31*(1+$B$7) -> 0 | I31: =C31*(1+$B$7) -> 114 | J31: =H31+F31 -> 0 | K31: =E31*(1+$B$7) -> 136.8 | M31: =ROUND(H31,0) -> 0 | N31: =ROUND(I31,0) -> 114 | O31: =ROUND(J31,0) -> 0 | P31: =ROUND(K31,0) -> 137
A32: Non-peak 10 trip vehicle | B32: 100 | D32: 120 | F32: 20 | H32: =B32*(1+$B$7) -> 114 | I32: =C32*(1+$B$7) -> 0 | J32: =H32+F32 -> 134 | K32: =E32*(1+$B$7) -> 0 | M32: =ROUND(H32,0) -> 114 | N32: =ROUND(I32,0) -> 0 | O32: =ROUND(J32,0) -> 134 | P32: =ROUND(K32,0) -> 0
A33: Non-peak 10 trip vehicle senior/disabled | B33: 80 | D33: 100 | F33: 20 | H33: =B33*(1+$B$7) -> 91.2 | I33: =C33*(1+$B$7) -> 0 | J33: =H33+F33 -> 111.2 | K33: =E33*(1+$B$7) -> 0 | M33: =ROUND(H33,0) -> 91 | N33: =ROUND(I33,0) -> 0 | O33: =ROUND(J33,0) -> 111 | P33: =ROUND(K33,0) -> 0
A34: Oversized Vehicles
A35: Over 20 feet less than 25 feet | B35: =D35-F35 -> 13 | C35: =E35-G35 -> 16 | D35: 17 | E35: 21 | F35: 4 | G35: 5 | H35: =B35*(1+$B$7) -> 14.82 | I35: =C35*(1+$B$7) -> 18.24 | J35: =H35+F35 -> 18.82 | K35: =I35+G35 -> 23.24 | M35: =ROUND(H35,0) -> 15 | N35: =ROUND(I35,0) -> 18 | O35: =ROUND(J35,0) -> 19 | P35: =ROUND(K35,0) -> 23
A36: 25 feet to less than 30 feet | B36: =D36-F36 -> 19 | C36: =E36-G36 -> 23 | D36: 25 | E36: 30 | F36: 6 | G36: 7 | H36: =B36*(1+$B$7) -> 21.66 | I36: =C36*(1+$B$7) -> 26.22 | J36: =H36+F36 -> 27.66 | K36: =I36+G36 -> 33.22 | M36: =ROUND(H36,0) -> 22 | N36: =ROUND(I36,0) -> 26 | O36: =ROUND(J36,0) -> 28 | P36: =ROUND(K36,0) -> 33
A37: 30 feet to less than 35 feet | B37: =D37-F37 -> 25 | C37: =E37-G37 -> 30 | D37: 33 | E37: 39 | F37: 8 | G37: 9 | H37: =B37*(1+$B$7) -> 28.5 | I37: =C37*(1+$B$7) -> 34.2 | J37: =H37+F37 -> 36.5 | K37: =I37+G37 -> 43.2 | M37: =ROUND(H37,0) -> 29 | N37: =ROUND(I37,0) -> 34 | O37: =ROUND(J37,0) -> 37 | P37: =ROUND(K37,0) -> 43
A38: 35 feet to less than 40 feet | B38: =D38-F38 -> 32 | C38: =E38-G38 -> 39 | D38: 42 | E38: 51 | F38: 10 | G38: 12 | H38: =B38*(1+$B$7) -> 36.48 | I38: =C38*(1+$B$7) -> 44.46 | J38: =H38+F38 -> 46.48 | K38: =I38+G38 -> 56.46 | M38: =ROUND(H38,0) -> 36 | N38: =ROUND(I38,0) -> 44 | O38: =ROUND(J38,0) -> 46 | P38: =ROUND(K38,0) -> 56
A39: 40 feet to less than 45 feet | B39: =D39-F39 -> 40 | C39: =E39-G39 -> 49 | D39: 52 | E39: 64 | F39: 12 | G39: 15 | H39: =B39*(1+$B$7) -> 45.6 | I39: =C39*(1+$B$7) -> 55.86 | J39: =H39+F39 -> 57.6 | K39: =I39+G39 -> 70.86 | M39: =ROUND(H39,0) -> 46 | N39: =ROUND(I39,0) -> 56 | O39: =ROUND(J39,0) -> 58 | P39: =ROUND(K39,0) -> 71
A40: 45 feet to less than 50 feet | B40: =D40-F40 -> 49 | C40: =E40-G40 -> 60 | D40: 64 | E40: 78 | F40: 15 | G40: 18 | H40: =B40*(1+$B$7) -> 55.86 | I40: =C40*(1+$B$7) -> 68.4 | J40: =H40+F40 -> 70.86 | K40: =I40+G40 -> 86.4 | M40: =ROUND(H40,0) -> 56 | N40: =ROUND(I40,0) -> 68 | O40: =ROUND(J40,0) -> 71 | P40: =ROUND(K40,0) -> 86
A41: 50 feet to less than 55 feet | B41: =D41-F41 -> 59 | C41: =E41-G41 -> 72 | D41: 77 | E41: 94 | F41: 18 | G41: 22 | H41: =B41*(1+$B$7) -> 67.26 | I41: =C41*(1+$B$7) -> 82.08 | J41: =H41+F41 -> 85.26 | K41: =I41+G41 -> 104.08 | M41: =ROUND(H41,0) -> 67 | N41: =ROUND(I41,0) -> 82 | O41: =ROUND(J41,0) -> 85 | P41: =ROUND(K41,0) -> 104
...

Sheet Revenue Target Calculation
A6: Base Year Expenditures | B6: Actual (2 years) | D6: Current Year (adopted budget as of 6/30) | E6: Projected (2 Years)
B7: 2024 | C7: 2025 | D7: 2026 | E7: 2027 | F7: 2028
A8: Obj. 510 - Salaries & Wages | B8: 1171005.6 | C8: 1338537.1 | D8: 1564402
A9: Obj. 520 - Personnel Benefits | B9: 384785.1 | C9: 482100 | D9: 488370
A10: Obj. 530 - Supplies & Consumables | B10: =SUM(B11:B14) -> 255441.44 | C10: =SUM(C11:C14) -> 282491 | D10: =SUM(D11:D14) -> 482223
A11: 3120 - Operating Supplies | B11: 44939 | C11: 101972 | D11: 154500
A12: 3200 - Fuel | B12: 209676.59 | C12: 159964 | D12: 305066
A13: 3412 - Interfund Parts & Materials | C13: 54 | D13: 2060
A14: 3510 - Small Tools & Minor Equipment | B14: 825.85 | C14: 20501 | D14: 20597
A15: Obj. 540 - Services & Pass-throughs | B15: =SUM(B16:B32) -> 1081023.8 | C15: =SUM(C16:C32) -> 2591009.1 | D15: =SUM(D16:D32) -> 2685865
A16: 4110 - Professional Services | B16: 197988.61 | C16: 294087 | D16: 432500
A17: 4128 - Professional Services (Other) | C17: 664 | D17: 935
A18: 4153 - Intergov. Professional Services | B18: 96.02 | D18: 12360
A19: 4154 - Interfund Payment for Svc. | B19: 8900.32 | C19: 13978 | D19: 7156
A20: 4155 - External Taxes, Ops & Assessment | B20: 30657.9 | C20: 33144.5 | D20: 41600
A21: 4190 - Interfund Information Svc. | B21: 83884.9 | C21: 98645 | D21: 171834
A22: 4230 - Communications | B22: 9403.41 | C22: 11501 | D22: 10626
A23: 4310 - Travel | B23: 1473.54 | C23: 4989.52 | D23: 13424
A24: 4361 - Meals | B24: 159.83 | C24: 580.46 | D24: 515
A25: 4410 - Advertising | B25: 5927.67 | C25: 731.68 | D25: 8215
A26: 4510 - Rentals | B26: 76374.87 | C26: 463803.5 | D26: 215000
A27: 4511 - Interfund Equip. Rental | B27: 12585.55 | C27: 18472.77 | D27: 21522
A28: 4610 - Insurance | B28: 199480.06 | C28: 99341 | D28: 467830
A29: 4700 - Utilities | B29: 33688.47 | C29: 38754.42 | D29: 33196
A30: 4810 - Repairs & Maint. | B30: 244041.53 | C30: 1433848.7 | D30: 1122000
... A32: 4910 - Miscellaneous | B32: 139744.51 | C32: 61016 | D32: 100195
A33: Sub-Total | B33: =B8+B9+B10+B15 -> 2892255.9 | C33: =C8+C9+C10+C15 -> 4694137.2 | D33: =D8+D9+D10+D15 -> 5220860
A34: Haul-Out & Maintenance Expenditures | D34: =-D30 -> -1122000
A35: Without haul out & maintenance expenditures | D35: =D33+D34 -> 4098860 | E35: =D35*(1+E55) -> 4232482.8 | F35: =E35*(1+F55) -> 4336601.9
A36: Annualized repair, maintenance & haul out | D36: =C45 -> 906204.46 | E36: =C45*(1+E55) -> 935746.73 | F36: =E36*(1+F55) -> 958766.09
A37: Plus annualized haul out & maintenance | D37: =D35+D36 -> 5005064.5 | E37: =D37*(1+E55) -> 5168229.6 | F37: =E37*(1+F55) -> 5295368
A39: Total | B39: =B33+B38 -> 2892255.9 | C39: =C33+C38 -> 4694137.2 | D39: =D35+D36+D38 -> 5005064.5 | E39: =E35+E36+E38 -> 5168229.6 | F39: =F35+F36+F38 -> 5295368
A41: Annualized Drydock & Non-drydock maintenance/repairs | B41: 2027/2028 Est. | C41: 2026 Adjusted
A42: 2027/2028 Planned Drydock (Total for 2 years) | B42: =918634+134518.67 -> 1053152.7
A43: Annualized Drydock | C43: =B42/2 -> 526576.33
A44: Average Non-Drydock Maintenance/Repair (1) | C44: =D48 -> 379628.12
A45: Annualized Base Year Maintenance | C45: =SUM(C43:C44) -> 906204.46
A47: (1) Annualized Non-Drydock Maintenance/Repair | B47: 2024 Actual | C47: 2025 Actual | D47: Average
A48: Maintenance expenditures other than drydock | B48: 244041.53 | C48: =C30-918634 -> 515214.72 | D48: =(B48+C48)/2 -> 379628.12
B54: 2024 | C54: 2025 | D54: 2026 | E54: 2027 | F54: 2028 | G54: 2029 | H54: 2030 | I54: 2031
...

Sheet 2025 Expenditures
A1: Dept. 0053 - County Roads
A2: Div. 004 - Ferry
B3: Expenditures | F3: 2025 Actual | G3: 2025 Budgeted | H3: % Difference
B4: Obj. 510 - Salaries & Wages | F4: ='Revenue Target Calculation'!C8 -> 1338537.1 | G4: 1441153 | H4: =(F4-G4)/G4 -> -0.071204036
B5: Obj. 520 - Personnel Benefits | F5: 482100.43 | G5: 530199 | H5: =(F5-G5)/G5 -> -0.090717957
B6: Obj. 530 - Supplies/Consumables | F6: =SUM(F7:F10) -> 282491.57 | G6: =SUM(G7:G10) -> 445850 | H6: =(F6-G6)/G6 -> -0.36639773
E7: 3120 - Operating Supplies | F7: 101972.34 | G7: 150000 | H7: =(F7-G7)/G7 -> -0.3201844
E8: 3200 - Fuel | F8: 159964.08 | G8: 273850 | H8: =(F8-G8)/G8 -> -0.41586971
E9: 3412 - Interfund Parts & Materials | F9: 54.23 | G9: 2000 | H9: =(F9-G9)/G9 -> -0.972885
E10: 3510 - Small Tools & Minor Equipment | F10: 20500.92 | G10: 20000 | H10: =(F10-G10)/G10 -> 0.025046
B11: Obj. 540 - Services & Pass Through Payments | F11: =SUM(F12:F28) -> 2591008.8 | G11: =SUM(G12:G28) -> 3183934 | H11: =(F11-G11)/G11 -> -0.18622408
E12: 4110 - Professional Services | F12: 294086.66 | G12: 310040 | H12: =(F12-G12)/G12 -> -0.051455748
E13: 4218 - Professional Services (Other) | F13: 663.7
E14: 4153 - Intergovernmental Professional Services | F14: ='Revenue Target Calculation'!C18 -> 0 | G14: 12000 | H14: =(F14-G14)/G14 -> -1
E15: 4154 - Interfund Payment for Service | F15: 13978.48
E16: 4155 - External Taxes & Ops Assessment | F16: ='Revenue Target Calculation'!C20 -> 33144.5 | G16: 35000 | H16: =(F16-G16)/G16 -> -0.053014286
E17: 4190 - Interfund Information Services | F17: 98644.52 | G17: 85127 | H17: =(F17-G17)/G17 -> 0.15879239
E18: 4230 - Communications | F18: 11501.27 | G18: 10000 | H18: =(F18-G18)/G18 -> 0.150127
E19: 4310 - Travel | F19: ='Revenue Target Calculation'!C23 -> 4989.52 | G19: 8018 | H19: =(F19-G19)/G19 -> -0.37771015
E20: 4361 - Meals | F20: ='Revenue Target Calculation'!C24 -> 580.46 | G20: 500
E21: 4410 - Advertising | F21: ='Revenue Target Calculation'!C25 -> 731.68 | G21: 5000 | H21: =(F21-G21)/G21 -> -0.853664
E22: 4510 - Rentals | F22: ='Revenue Target Calculation'!C26 -> 463803.5 | G22: 445300 | H22: =(F22-G22)/G22 -> 0.041552886
E23: 4511 - Interfund Equipment Rental | F23: ='Revenue Target Calculation'!C27 -> 18472.77 | G23: 15000 | H23: =(F23-G23)/G23 -> 0.231518
E24: 4610 - Insurance | F24: ='Revenue Target Calculation'!C28 -> 99341 | G24: 376400 | H24: =(F24-G24)/G24 -> -0.73607598
E25: 4700 - Utilities | F25: ='Revenue Target Calculation'!C29 -> 38754.42 | G25: 35000 | H25: =(F25-G25)/G25 -> 0.10726914
E26: 4810 - Repairs & Maintenance | F26: ='Revenue Target Calculation'!C30 -> 1433848.7 | G26: 1776549 | H26: =(F26-G26)/G26 -> -0.19290224
E27: 4811 - Interfund Shop Labor | F27: ='Revenue Target Calculation'!C31 -> 17451.5 | G27: 5000 | H27: =(F27-G27)/G27 -> 2.4903
E28: 4910 - Miscellaneous | F28: 61016.11 | G28: 65000 | H28: =(F28-G28)/G28 -> -0.061290615
E29: O&M Total | F29: =F4+F5+F6+F11 -> 4694137.9 | G29: =G4+G5+G6+G11 -> 5601136 | H29: =(F29-G29)/G29 -> -0.1619311
B30: Obj. 560 - Capital Outlays | F30: =F31+F32 -> 1330090.1 | G30: =G31+G32 -> 1543083 | H30: =(F30-G30)/G30 -> -0.13803072
E31: 6310 - Other Improvements | G31: 200000
E32: 6411 - Equipment > $5,000 | F32: 1330090.1 | G32: 1343083 | H32: =(F32-G32)/G32 -> -0.0096738995
E33: Total (1) | F33: =F29+F32 -> 6024228.1 | G33: =G29+G30 -> 7144219 | H33: =(F33-G33)/G33 -> -0.15676884
B35: 2020 Expenditures Chart
B36: Obj. 510 - Salaries & Wages | F36: =F4/F33 -> 0.2221923
B37: Obj. 520 - Personnel Benefits | F37: =F5/F33 -> 0.080026922
B38: Obj. 530 - Supplies/Consumables | F38: =F6/F33 -> 0.046892576
B39: Obj. 540 - Services & Pass Through Payments | F39: =F11/F33 -> 0.43009806
B40: Obj. 560 - Capital Outlays | F40: =F30/F33 -> 0.22079014
E41: Total | F41: =SUM(F36:F40) -> 1
...

Sheet 2024 Sales
A1: FERRY TICKET SALES 2024
B3: JAN | C3: FEB | D3: MAR | E3: APR | F3: MAY | G3: JUN | H3: JUL | I3: AUG | J3: SEPT | K3: OCT | L3: NOV | M3: DEC | N3: TOTAL
A4: 5 TRIP DRIVER & VEHICLE < 30 - SUMMER | B4: 85 | C4: 45 | D4: 55 | E4: 35 | F4: 100 | G4: 50 | H4: 110 | I4: 115 | J4: 110 | K4: 95 | L4: 65 | M4: 110 | N4: =SUM(B4:M4) -> 975
A5: 5 TRIP DRIVER & VEHICLE < 30 - WINTER | B5: 15 | C5: 10 | D5: 30 | E5: 15 | F5: 55 | G5: 0 | H5: 0 | I5: 0 | J5: 0 | K5: 30 | L5: 40 | M5: 55 | N5: =SUM(B5:M5) -> 250
A6: 5 TRIP DRIVER & VEHICLE < 40 - SUMMER | B6: 0 | C6: 0 | D6: 20 | E6: 5 | F6: 20 | G6: 25 | H6: 65 | I6: 15 | J6: 65 | K6: 20 | L6: 15 | M6: 10 | N6: =SUM(B6:M6) -> 260
A7: 5 TRIP DRIVER & VEHICLE < 40 - WINTER | B7: 0 | C7: 20 | D7: 30 | E7: 40 | F7: 30 | G7: 0 | H7: 0 | I7: 0 | J7: 0 | K7: 35 | L7: 10 | M7: 45 | N7: =SUM(B7:M7) -> 210
A8: 5 TRIP DRIVER & VEHICLE < 50 - SUMMER | B8: 5 | C8: 0 | D8: 5 | E8: 0 | F8: 0 | G8: 15 | H8: 0 | I8: 0 | J8: 10 | K8: 10 | L8: 0 | M8: 0 | N8: =SUM(B8:M8) -> 45
A9: 5 TRIP DRIVER & VEHICLE < 50 - WINTER | B9: 5 | C9: 0 | D9: 10 | E9: 0 | F9: 0 | G9: 0 | H9: 0 | I9: 0 | J9: 0 | K9: 0 | L9: 10 | M9: 0 | N9: =SUM(B9:M9) -> 25
A10: 5 TRIP DRIVER & VEHICLE < 60 - SUMMER | B10: 5 | C10: 0 | D10: 5 | E10: 0 | F10: 0 | G10: 0 | H10: 10 | I10: 0 | J10: 0 | K10: 0 | L10: 0 | M10: 0 | N10: =SUM(B10:M10) -> 20
A11: 5 TRIP DRIVER & VEHICLE < 60 - WINTER | B11: 0 | C11: 0 | D11: 0 | E11: 0 | F11: 0 | G11: 0 | H11: 0 | I11: 0 | J11: 0 | K11: 0 | L11: 0 | M11: 0 | N11: =SUM(B11:M11) -> 0
A12: 5 TRIP SENIOR/DISABLED DRIVER & CAR - NEEDS BASED | B12: 20 | C12: 25 | D12: 10 | E12: 15 | F12: 25 | G12: 15 | H12: 20 | I12: 0 | J12: 35 | K12: 30 | L12: 5 | M12: 20 | N12: =SUM(B12:M12) -> 220
A13: 20 TRIP DRIVER & CAR | B13: 1120 | C13: 1580 | D13: 2100 | E13: 1660 | F13: 1800 | G13: 1480 | H13: 1680 | I13: 1720 | J13: 1660 | K13: 1440 | L13: 1480 | M13: 2000 | N13: =SUM(B13:M13) -> 19720
A14: 20 TRIP MOTORCYCLE | B14: 0 | C14: 80 | D14: 40 | E14: 60 | F14: 80 | G14: 60 | H14: 80 | I14: 0 | J14: 60 | K14: 20 | L14: 40 | M14: 60 | N14: =SUM(B14:M14) -> 580
A15: 20 TRIP SENIOR DRIVER & CAR | B15: 1540 | C15: 2580 | D15: 2740 | E15: 3140 | F15: 2540 | G15: 2900 | H15: 2100 | I15: 2260 | J15: 2220 | K15: 2080 | L15: 1800 | M15: 3280 | N15: =SUM(B15:M15) -> 29180
... A42: TRIPS | B42: 702 | C42: 660 | D42: 688 | E42: 701 | F42: 721 | G42: 729 | H42: 759 | I42: 757 | J42: 718 | K42: 714 | L42: 680 | M42: 704 | N42: =SUM(B42:M42) -> 8533
A43: YOUTH 18 & UNDER PASSENGER | B43: 100 | C43: 201 | D43: 229 | E43: 395 | F43: =276+252 -> 528 | G43: 591 | H43: 1557 | I43: 1129 | J43: 535 | K43: 354 | L43: 410 | M43: 382 | N43: =SUM(B43:M43) -> 6411
A44: Totals | B44: =SUM(B4:B42) -> 9142 | C44: =SUM(C4:C43) -> 12176 | D44: =SUM(D4:D43) -> 13936 | E44: =SUM(E4:E43) -> 15380 | F44: =SUM(F4:F43) -> 17172 | G44: =SUM(G4:G43) -> 17937 | H44: =SUM(H4:H43) -> 23264 | I44: =SUM(I4:I43) -> 21981 | J44: =SUM(J4:J43) -> 16964 | ... M44: =SUM(M4:M43) -> 17613 | N44: =SUM(N4:N42) -> 188299
A46: # OF C&D FREQ USER PASS USERS | B46: =SUM(B4:B15) -> 2795 | C46: =SUM(C4:C15) -> 4340 | D46: =SUM(D4:D15) -> 5045 | E46: =SUM(E4:E15) -> 4970 | F46: =SUM(F4:F15) -> 4650 | G46: =SUM(G4:G15) -> 4545 | H46: =SUM(H4:H15) -> 4065 | I46: =SUM(I4:I15) -> 4110 | ... N46: =SUM(N4:N15) -> 51485
A47: # OF PASSENGER FREQ USER PASSES | B47: =+B18+B31 -> 2825 | C47: =+C18+C31 -> 2900 | D47: =+D18+D31 -> 2725 | E47: =+E18+E31 -> 3375 | F47: =+F18+F31 -> 3225 | G47: =+G18+G31 -> 3575 | H47: =+H18+H31 -> 3850 | I47: =+I18+I31 -> 3950 | ... N47: =+N18+N31 -> 40275
A48: # OF VEHICLES | B48: =SUM(B4:B15)+B21+B22+B24+B25+B27+B28+SUM(B34:B41) -> 4321 | C48: =SUM(C4:C15)+C21+C22+C24+C25+C27+C28+SUM(C34:C41) -> 6748 | D48: =SUM(D4:D15)+D21+D22+D24+D25+D27+D28+SUM(D34:D41) -> 8082 | E48: =SUM(E4:E15)+E21+E22+E24+E25+E27+E28+SUM(E34:E41) -> 8429 | F48: =SUM(F4:F15)+F21+F22+F24+F25+F27+F28+SUM(F34:F41) -> 8893 | G48: =SUM(G4:G15)+G21+G22+G24+G25+G27+G28+SUM(G34:G41) -> 8815 | H48: =SUM(H4:H15)+H21+H22+H24+H25+H27+H28+SUM(H34:H41) -> 9630 | I48: =SUM(I4:I15)+I21+I22+I24+I25+I27+I28+SUM(I34:I41) -> 9939 | ... N48: =SUM(N4:N15)+N21+N22+N24+N25+N27+N28+SUM(N34:N41) -> 97237
A49: # OF PASSENGERS | B49: =SUM(B4:B15)+B18+B19+B20+B21+B22+B24+B25+B27+B28+B29+B30+B31+B32+B33+SUM(B34:B41)+B43 -> 8524 | C49: =SUM(C4:C15)+C18+C19+C20+C21+C22+C24+C25+C27+C28+C29+C30+C31+C32+C33+SUM(C34:C41)+C43 -> 11473 | D49: =SUM(D4:D15)+D18+D19+D20+D21+D22+D24+D25+D27+D28+D29+D30+D31+D32+D33+SUM(D34:D41)+D43 -> 13169 | E49: =SUM(E4:E15)+E18+E19+E20+E21+E22+E24+E25+E27+E28+E29+E30+E31+E32+E33+SUM(E34:E41)+E43 -> 14594 | F49: =SUM(F4:F15)+F18+F19+F20+F21+F22+F24+F25+F27+F28+F29+F30+F31+F32+F33+SUM(F34:F41)+F43 -> 16281 | G49: =SUM(G4:G15)+G18+G19+G20+G21+G22+G24+G25+G27+G28+G29+G30+G31+G32+G33+SUM(G34:G41)+G43 -> 17007 | H49: =SUM(H4:H15)+H18+H19+H20+H21+H22+H24+H25+H27+H28+H29+H30+H31+H32+H33+SUM(H34:H41)+H43 -> 22072 | I49: =SUM(I4:I15)+I18+I19+I20+I21+I22+I24+I25+I27+I28+I29+I30+I31+I32+I33+SUM(I34:I41)+I43 -> 20890 | ... N49: =SUM(N4:N15)+N18+N19+N20+N21+N22+N24+N25+N27+N28+N29+N30+N31+N32+N33+SUM(N34:N41)+N43 -> 184421
A50: # OF TICKETS SOLD | B50: =SUM(B4:B43)-B26-B42 -> 8539 | C50: =SUM(C4:C43)-C26-C42 -> 11511 | D50: =SUM(D4:D43)-D26-D42 -> 13240 | E50: =SUM(E4:E43)-E26-E42 -> 14674 | F50: =SUM(F4:F43)-F26-F42 -> 16439 | G50: =SUM(G4:G43)-G26-G42 -> 17207 | H50: =SUM(H4:H43)-H26-H42 -> 22491 | I50: =SUM(I4:I43)-I26-I42 -> 21217 | ... N50: =SUM(N4:N43)-N26-N42 -> 186098
A51: # OF PASSENGERS/WALK ON | B51: =+B19+B20+B29+B30+B43 -> 1374 | C51: =+C19+C20+C29+C30+C43 -> 1818 | D51: =+D19+D20+D29+D30+D43 -> 2314 | E51: =+E19+E20+E29+E30+E43 -> 2733 | F51: =+F19+F20+F29+F30+F43 -> 4041 | G51: =+G19+G20+G29+G30+G43 -> 4478 | H51: =+H19+H20+H29+H30+H43 -> 8292 | I51: =+I19+I20+I29+I30+I43 -> 6732 | ... N51: =+N19+N20+N29+N30+N43 -> 45660
A56: # OF C&D TICKETS | B56: =+B21+B22+B27+B28 -> 1432 | C56: =+C21+C22+C27+C28 -> 2227 | D56: =+D21+D22+D27+D28 -> 2793 | E56: =+E21+E22+E27+E28 -> 3111 | F56: =+F21+F22+F27+F28 -> 3870 | G56: =+G21+G22+G27+G28 -> 3935 | H56: =+H21+H22+H27+H28 -> 5153 | I56: =+I21+I22+I27+I28 -> 5467 | ... N56: =+N21+N22+N27+N28 -> 42478
A57: # OF MOTORCYCLE TICKETS | B57: =+B24+B25 -> 0 | C57: =+C24+C25 -> 7 | D57: =+D24+D25 -> 7 | E57: =+E24+E25 -> 21 | F57: =+F24+F25 -> 25 | G57: =+G24+G25 -> 34 | H57: =+H24+H25 -> 43 | I57: =+I24+I25 -> 32 | ... N57: =+N24+N25 -> 238
A58: # OF OVERSIZE VEHICLE TICKETS | B58: =SUM(B4:B11)+SUM(B34:B41) -> 209 | C58: =SUM(C4:C11)+SUM(C34:C41) -> 249 | D58: =SUM(D4:D11)+SUM(D34:D41) -> 392 | E58: =SUM(E4:E11)+SUM(E34:E41) -> 422 | F58: =SUM(F4:F11)+SUM(F34:F41) -> 553 | G58: =SUM(G4:G11)+SUM(G34:G41) -> 391 | H58: =SUM(H4:H11)+SUM(H34:H41) -> 554 | I58: =SUM(I4:I11)+SUM(I34:I41) -> 460 | ... N58: =SUM(N4:N11)+SUM(N34:N41) -> 4821
A59: # OF BICYCLE TICKETS | B59: =+B16+B17+B32+B33 -> 17 | C59: =+C16+C17+C32+C33 -> 38 | D59: =+D16+D17+D32+D33 -> 113 | E59: =+E16+E17+E32+E33 -> 135 | F59: =+F16+F17+F32+F33 -> 277 | G59: =+G16+G17+G32+G33 -> 330 | H59: =+H16+H17+H32+H33 -> 717 | I59: =+I16+I17+I32+I33 -> 593 | ... N59: =+N16+N17+N32+N33 -> 2883

Sheet 2025 Sales
A1: FERRY TICKET SALES 2025
B3: JAN | C3: FEB | D3: MAR | E3: APR | F3: MAY | G3: JUN | H3: JUL | I3: AUG | J3: SEPT | K3: OCT | L3: NOV | M3: DEC | N3: TOTAL
A4: ADULT PASSENGER - PEAK | F4: 1422 | G4: 3566 | H4: 5480 | I4: 4305 | J4: 3792 | K4: 136 | N4: =SUM(B4:M4) -> 18701
A5: ADULT PASSENGER - NONPEAK | B5: 1995 | C5: =1568+262 -> 1830 | D5: 2284 | E5: 1133 | F5: 5150 | J5: 5 | K5: 2038 | L5: 1543 | M5: 2439 | N5: =SUM(B5:M5) -> 18417
A6: S/D/Y PASSENGER - PEAK | F6: 1100 | G6: 2002 | H6: 2458 | I6: 2263 | J6: 1966 | K6: 70 | N6: =SUM(B6:M6) -> 9859
A7: S/D/Y PASSENGER - NONPEAK | B7: 1050 | C7: =892+149 -> 1041 | D7: 1442 | E7: 885 | F7: 3071 | J7: 8 | K7: 1258 | L7: 970 | M7: 1310 | N7: =SUM(B7:M7) -> 11035
A8: ADULT BICYCLE - PEAK | F8: 124 | G8: 216 | H8: 474 | I8: 322 | J8: 254 | K8: 1 | N8: =SUM(B8:M8) -> 1391
A9: ADULT BICYCLE - NONPEAK | B9: 40 | C9: =14+7 -> 21 | D9: 40 | F9: 262 | K9: 61 | L9: 45 | M9: 58 | N9: =SUM(B9:M9) -> 527
A10: S/D/Y BICYCLE - PEAK | F10: 67 | G10: 235 | H10: 429 | I10: 313 | J10: 269 | K10: 2 | N10: =SUM(B10:M10) -> 1315
A11: S/D/Y BICYCLE - NONPEAK | B11: 22 | C11: =6+7 -> 13 | D11: 42 | E11: 30 | F11: 195 | J11: 1 | K11: 122 | L11: 40 | M11: 41 | N11: =SUM(B11:M11) -> 506
A12: 25-TRIP ADULT PASSENGER - PEAK | F12: =83*25 -> 2075 | G12: =65*25 -> 1625 | H12: =64*25 -> 1600 | I12: =61*25 -> 1525 | J12: 1150 | N12: =SUM(B12:M12) -> 7975
A13: 25-TRIP ADULT PASSENGER - NONPEAK | D13: =69*25 -> 1725 | E13: =40*25 -> 1000 | F13: =62*25 -> 1550 | K13: =56*25 -> 1400 | L13: =45*25 -> 1125 | M13: =13*25 -> 325 | N13: =SUM(B13:M13) -> 7125
A14: 25-TRIP SENIOR/DISABLED PASSENGER PEAK | F14: =97*25 -> 2425 | G14: =(82*25)-(1*25) -> 2025 | H14: =60*25 -> 1500 | I14: =53*25 -> 1325 | J14: =21*25 -> 525 | N14: =SUM(B14:M14) -> 7800
A15: 25-TRIP SENIOR/DISABLED PASSENGER NONPEAK | D15: =70*25 -> 1750 | E15: =37*25 -> 925 | F15: =65*25 -> 1625 | K15: =(45*25) -> 1125 | L15: =25*25 -> 625 | M15: =5*25 -> 125 | N15: =SUM(B15:M15) -> 6175
A16: MOTORCYCLE - PEAK | F16: 2 | G16: 52 | H16: 100 | I16: 60 | J16: 68 | K16: 1 | N16: =SUM(B16:M16) -> 283
A17: MOTORCYCLE - NONPEAK | B17: 4 | C17: =3+3 -> 6 | D17: 18 | E17: 2 | F17: 12 | K17: 27 | L17: 12 | M17: 15 | N17: =SUM(B17:M17) -> 96
A18: VEHICLE & DRIVER - PEAK | F18: 17 | G18: 3006 | H18: 4173 | I18: 3352 | J18: 3340 | K18: 156 | N18: =SUM(B18:M18) -> 14044
A19: VEHICLE & DRIVER - NONPEAK | B19: 2162 | C19: =2339+354 -> 2693 | D19: 1635 | E19: 57 | J19: 8 | K19: 2652 | L19: 2186 | M19: 2983 | N19: =SUM(B19:M19) -> 14376
A20: SENIOR/DISABLED DRIVER & CAR - PEAK | F20: 33 | G20: 2127 | H20: 2467 | I20: 2311 | J20: 2153 | K20: 98 | N20: =SUM(B20:M20) -> 9189
A21: SENIOR/DISABLED DRIVER & CAR - NONPEAK | B21: 1158 | C21: =1202+248 -> 1450 | D21: 1105 | J21: 6 | K21: 2122 | L21: 1553 | M21: 2195 | N21: =SUM(B21:M21) -> 9589
A22: 20 TRIP DRIVER & CAR | D22: =4*20 -> 80 | F22: =2*20 -> 40 | G22: =67*20 -> 1340 | H22: =35*20 -> 700 | I22: =30*20 -> 600 | J22: =21*20 -> 420 | K22: =(46*20) -> 920 | L22: =35*20 -> 700 | M22: =9*20 -> 180 | N22: =SUM(B22:M22) -> 4980
A23: 20 TRIP SENIOR DRIVER & CAR | F23: =9*20 -> 180 | G23: =97*20 -> 1940 | H23: =33*20 -> 660 | I23: =29*20 -> 580 | J23: =(12*20)+(2*20) -> 280 | K23: =(48*20) -> 960 | L23: =27*20 -> 540 | M23: =6*20 -> 120 | N23: =SUM(B23:M23) -> 5260
A24: 20 TRIP MOTORCYCLE | G24: =1*20 -> 20 | H24: =3*20 -> 60 | I24: =1*20 -> 20 | J24: =1*20 -> 20 | K24: =(2*20) -> 40 | L24: =2*20 -> 40 | N24: =SUM(B24:M24) -> 200
A25: 5 TRIP SENIOR/DISABLED DRIVER & CAR - NEEDS BASED | D25: =1*5 -> 5 | G25: =3*5 -> 15 | H25: =5*5 -> 25 | I25: =1*5 -> 5 | J25: =1*5 -> 5 | K25: =4*5 -> 20 | L25: =5*5 -> 25 | N25: =SUM(B25:M25) -> 100
A26: TRUCKS < 30 - PEAK | F26: 1 | G26: 164 | H26: 164 | I26: 148 | J26: 125 | K26: 8 | N26: =SUM(B26:M26) -> 610
A27: TRUCKS < 30 - NONPEAK | B27: 58 | C27: =76+18 -> 94 | D27: 169 | K27: 134 | L27: 101 | M27: 71 | N27: =SUM(B27:M27) -> 627
A28: TRUCKS < 40 - PEAK | G28: 173 | H28: 197 | I28: 127 | J28: 134 | K28: 10 | N28: =SUM(B28:M28) -> 641
A29: TRUCKS < 40 - NONPEAK | B29: 84 | C29: =77+11 -> 88 | D29: 74 | K29: 97 | L29: 133 | M29: 59 | N29: =SUM(B29:M29) -> 535
A30: TRUCKS < 50 - PEAK | G30: 60 | H30: 69 | I30: 38 | J30: 35 | K30: 1 | N30: =SUM(B30:M30) -> 203
A31: TRUCKS < 50 - NONPEAK | B31: 11 | C31: =15+5 -> 20 | D31: 26 | K31: 27 | L31: 35 | M31: 14 | N31: =SUM(B31:M31) -> 133
A32: TRUCKS < 60 - PEAK | G32: 21 | H32: 25 | I32: 17 | J32: 15 | N32: =SUM(B32:M32) -> 78
A33: TRUCKS < 60 - NONPEAK | B33: 12 | C33: =3+1 -> 4 | D33: 11 | K33: 15 | L33: 6 | M33: 5 | N33: =SUM(B33:M33) -> 53
A34: EACH 10' OVER 60' | B34: 6 | C34: =1+1 -> 2 | D34: 4 | G34: 6 | H34: 5 | I34: 5 | J34: 13 | K34: =12+1 -> 13 | L34: 2 | N34: =SUM(B34:M34) -> 56
A35: 5 TRIP DRIVER & VEHICLE < 30 - PEAK | G35: =33*5 -> 165 | H35: =12*5 -> 60 | I35: =8*5 -> 40 | J35: =9*5 -> 45 | K35: =1*5 -> 5 | N35: =SUM(B35:M35) -> 315
A36: 5 TRIP DRIVER & VEHICLE < 30 - NONPEAK | D36: =1*5 -> 5 | K36: =14*5 -> 70 | L36: =6*5 -> 30 | M36: =8*5 -> 40 | N36: =SUM(B36:M36) -> 145
A37: 5 TRIP DRIVER & VEHICLE < 40 - PEAK | G37: =7*5 -> 35 | H37: =5*5 -> 25 | I37: =2*5 -> 10 | J37: =2*5 -> 10 | N37: =SUM(B37:M37) -> 80
A38: 5 TRIP DRIVER & VEHICLE < 40 - NONPEAK | D38: =2*5 -> 10 | K38: =6*5 -> 30 | L38: =9*5 -> 45 | N38: =SUM(B38:M38) -> 85
A39: 5 TRIP DRIVER & VEHICLE < 50 - PEAK | G39: =2*5 -> 10 | H39: =1*5 -> 5 | I39: =1*5 -> 5 | K39: =1*5 -> 5 | N39: =SUM(B39:M39) -> 25
A40: 5 TRIP DRIVER & VEHICLE < 50 - NONPEAK | L40: =3*5 -> 15 | M40: =1*5 -> 5 | N40: =SUM(B40:M40) -> 20
A41: 5 TRIP DRIVER & VEHICLE < 60 - PEAK | J41: =1*5 -> 5 | N41: =SUM(B41:M41) -> 5
...

Sheet 26-27Cost&RevPerHour
D1: 2026 Adopted Budget (as of 6/30 | E1: 2026 Cost (per Hr.) | F1: 2026 Cost (per Run) | G1: 2027 Preliminary Budget (8/31/26) | H1: 2027 Est. Cost (per Hr.) | I1: 2027 Est. Cost (per Run) | J1: 2-Yr. Average Expenditures | K1: 2 Yr. Average Cost (per Hr.) | L1: 2 Yr. Average Cost (per Run)
B2: Object 510 - Salaries & Wages
B3: 1100 | C3: Salaries & Wages | D3: 975806 | E3: =D3/B55 -> 173.7237 | F3: =D3/E55 -> 116.09827 | G3: 1110331 | H3: =G3/B55 -> 197.67331 | I3: =G3/E55 -> 132.10363 | J3: =AVERAGE(G3,D3) -> 1043068.5 | K3: =AVERAGE(H3,E3) -> 185.6985 | L3: =AVERAGE(I3,F3) -> 124.10095
B4: 1190 | C4: Leave Salaries
B5: 1200 | C5: Ferry PT salaries | D5: 517096 | E5: =D5/B55 -> 92.059106 | F5: =D5/E55 -> 61.522427 | G5: 352561 | H5: =G5/B55 -> 62.766779 | I5: =G5/E55 -> 41.946579 | J5: =AVERAGE(G5,D5) -> 434828.5 | K5: =AVERAGE(H5,E5) -> 77.412943 | L5: =AVERAGE(I5,F5) -> 51.734503
B6: 1300 | C6: Ferry OT | D6: 56746 | E6: =D6/B55 -> 10.102546 | F6: =D6/E55 -> 6.7514575 | G6: 58550 | H6: =G6/B55 -> 10.423714 | I6: =G6/E55 -> 6.9660916 | J6: =AVERAGE(G6,D6) -> 57648 | K6: =AVERAGE(H6,E6) -> 10.26313 | L6: =AVERAGE(I6,F6) -> 6.8587745
B7: 1500 | C7: Ferry Premium | D7: 14754 | E7: =D7/B55 -> 2.626669 | F7: =D7/E55 -> 1.7553837 | G7: 20697 | H7: =G7/B55 -> 3.6847071 | I7: =G7/E55 -> 2.4624628 | J7: =AVERAGE(G7,D7) -> 17725.5 | K7: =AVERAGE(H7,E7) -> 3.1556881 | L7: =AVERAGE(I7,F7) -> 2.1089233
B8: Obj. 510 | C8: Subtotal | D8: =SUM(D3:D7) -> 1564402 | E8: =SUM(E3:E7) -> 278.51202 | F8: =SUM(F3:F7) -> 186.12754 | G8: =SUM(G3:G7) -> 1542139 | H8: =SUM(H3:H7) -> 274.54851 | I8: =SUM(I3:I7) -> 183.47876 | J8: =AVERAGE(G8,D8) -> 1553270.5 | K8: =AVERAGE(H8,E8) -> 276.53027 | L8: =AVERAGE(I8,F8) -> 184.80315
B10: Object 520 - Personnel Benefits
B11: 2100 | C11: Ferry SS | D11: 114204 | E11: =D11/B55 -> 20.33185 | F11: =D11/E55 -> 13.587626 | G11: 118299 | H11: =G11/B55 -> 21.060887 | I11: =G11/E55 -> 14.074836 | J11: =AVERAGE(G11,D11) -> 116251.5 | K11: =AVERAGE(H11,E11) -> 20.696368 | L11: =AVERAGE(I11,F11) -> 13.831231
B12: 2200 | C12: Ferry Retirement | D12: 64229 | E12: =D12/B55 -> 11.434752 | F12: =D12/E55 -> 7.6417609 | G12: 67303 | H12: =G12/B55 -> 11.982019 | I12: =G12/E55 -> 8.0074955 | J12: =AVERAGE(G12,D12) -> 65766 | K12: =AVERAGE(H12,E12) -> 11.708385 | L12: =AVERAGE(I12,F12) -> 7.8246282
B13: 2300 | C13: Ferry L&I | D13: 3085 | E13: =D13/B55 -> 0.54922557 | F13: =D13/E55 -> 0.36704343 | G13: 3445 | H13: =G13/B55 -> 0.61331672 | I13: =G13/E55 -> 0.40987507 | J13: =AVERAGE(G13,D13) -> 3265 | K13: =AVERAGE(H13,E13) -> 0.58127114 | L13: =AVERAGE(I13,F13) -> 0.38845925
B14: 2400 | C14: Ferry medical | D14: 282432 | E14: =D14/B55 -> 50.281645 | F14: =D14/E55 -> 33.602855 | G14: 299644 | H14: =G14/B55 -> 53.345914 | I14: =G14/E55 -> 35.650684 | J14: =AVERAGE(G14,D14) -> 291038 | K14: =AVERAGE(H14,E14) -> 51.81378 | L14: =AVERAGE(I14,F14) -> 34.62677
B15: 2820 | C15: Ferry uniforms | D15: 5575 | E15: =D15/B55 -> 0.9925227 | F15: =D15/E55 -> 0.66329566 | G15: 4275 | H15: =G15/B55 -> 0.76108243 | I15: =G15/E55 -> 0.50862582 | J15: =AVERAGE(G15,D15) -> 4925 | K15: =AVERAGE(H15,E15) -> 0.87680256 | L15: =AVERAGE(I15,F15) -> 0.58596074
B16: 2900 | C16: Ferry Unemployment | D16: 18845 | E16: =D16/B55 -> 3.3549938 | F16: =D16/E55 -> 2.2421178 | G16: 20453 | H16: =G16/B55 -> 3.6412676 | I16: =G16/E55 -> 2.4334325 | J16: =AVERAGE(G16,D16) -> 19649 | K16: =AVERAGE(H16,E16) -> 3.4981307 | L16: =AVERAGE(I16,F16) -> 2.3377751
B17: Obj. 520 | C17: Subtotal | D17: =SUM(D11:D16) -> 488370 | E17: =SUM(E11:E16) -> 86.944988 | F17: =SUM(F11:F16) -> 58.1047 | G17: =SUM(G11:G16) -> 513419 | H17: =SUM(H11:H16) -> 91.404486 | I17: =SUM(I11:I16) -> 61.084949 | J17: =AVERAGE(G17,D17) -> 500894.5 | K17: =AVERAGE(H17,E17) -> 89.174737 | L17: =AVERAGE(I17,F17) -> 59.594825
B19: Object 530 - Supplies & Consumables
B20: 3120 | C20: Operating Supplies | D20: 154500 | E20: =D20/B55 -> 27.505786 | F20: =D20/E55 -> 18.381916 | G20: 154500 | H20: =G20/B55 -> 27.505786 | I20: =G20/E55 -> 18.381916 | J20: =AVERAGE(G20,D20) -> 154500 | K20: =AVERAGE(H20,E20) -> 27.505786 | L20: =AVERAGE(I20,F20) -> 18.381916
B21: 3200 | C21: Fuel | D21: 305066 | E21: =D21/B55 -> 54.311198 | F21: =D21/E55 -> 36.295776 | G21: 262549 | H21: =G21/B55 -> 46.741855 | I21: =G21/E55 -> 31.23724 | J21: =AVERAGE(G21,D21) -> 283807.5 | K21: =AVERAGE(H21,E21) -> 50.526527 | L21: =AVERAGE(I21,F21) -> 33.766508
B22: 3412 | C22: Interfund Parts | D22: 2060 | E22: =D22/B56 -> 0.3656372 | F22: =D22/E55 -> 0.24509221 | G22: 2060 | H22: =G22/B55 -> 0.36674381 | I22: =G22/E55 -> 0.24509221 | J22: =AVERAGE(G22,D22) -> 2060 | K22: =AVERAGE(H22,E22) -> 0.36619051 | L22: =AVERAGE(I22,F22) -> 0.24509221
B23: 3510 | C23: Small Tools & Minor Equipment | D23: 20597 | E23: =D23/B56 -> 3.6558395 | F23: =D23/E55 -> 2.4505651 | G23: 20597 | H23: =G23/B55 -> 3.666904 | I23: =G23/E55 -> 2.4505651 | J23: =AVERAGE(G23,D23) -> 20597 | K23: =AVERAGE(H23,E23) -> 3.6613718 | L23: =AVERAGE(I23,F23) -> 2.4505651
B24: Obj. 530 | C24: Subtotal | D24: =SUM(D20:D23) -> 482223 | E24: =SUM(E20:E23) -> 85.838461 | F24: =SUM(F20:F23) -> 57.373349 | G24: =SUM(G20:G23) -> 439706 | H24: =SUM(H20:H23) -> 78.281289 | I24: =SUM(I20:I23) -> 52.314813 | J24: =AVERAGE(G24,D24) -> 460964.5 | K24: =AVERAGE(H24,E24) -> 82.059875 | L24: =AVERAGE(I24,F24) -> 54.844081
B26: Object 540 - Service & Pass-Through Payments
B27: 4110 | C27: Professional Services | D27: 432500 | E27: =D27/B55 -> 76.998398 | F27: =D27/E55 -> 51.457466 | G27: 650000 | H27: =G27/B56 -> 115.37096 | I27: =G27/E55 -> 77.33492 | J27: =AVERAGE(G27,D27) -> 541250 | K27: =AVERAGE(H27,E27) -> 96.18468 | L27: =AVERAGE(I27,F27) -> 64.396193
B28: 4128 | C28: Professional Services | D28: 935 | E28: =D28/B55 -> 0.16645896 | F28: =D28/E55 -> 0.11124331 | G28: 1000 | H28: =G28/B56 -> 0.17749379 | I28: =G28/E55 -> 0.1189768 | J28: =AVERAGE(G28,D28) -> 967.5 | K28: =AVERAGE(H28,E28) -> 0.17197638 | L28: =AVERAGE(I28,F28) -> 0.11511005
B29: 4153 | C29: Intergov Professional Services | D29: 12360 | E29: =D29/B55 -> 2.2004629 | F29: =D29/E55 -> 1.4705532 | G29: 12763 | H29: =G29/B56 -> 2.2653532 | I29: =G29/E55 -> 1.5185009 | J29: =AVERAGE(G29,D29) -> 12561.5 | K29: =AVERAGE(H29,E29) -> 2.232908 | L29: =AVERAGE(I29,F29) -> 1.4945271
B30: 4154 | C30: Interfund Payments for Services | D30: 7156 | E30: =D30/B55 -> 1.2739897 | F30: =D30/E55 -> 0.85139798 | G30: 7389 | H30: =G30/B56 -> 1.3115016 | I30: =G30/E55 -> 0.87911957 | J30: =AVERAGE(G30,D30) -> 7272.5 | K30: =AVERAGE(H30,E30) -> 1.2927456 | L30: =AVERAGE(I30,F30) -> 0.86525877
B31: 4155 | C31: External Taxes | D31: 41600 | E31: =D31/B55 -> 7.4060887 | F31: =D31/E55 -> 4.9494349 | G31: 42956 | H31: =G31/B56 -> 7.6244231 | I31: =G31/E55 -> 5.1107674 | J31: =AVERAGE(G31,D31) -> 42278 | K31: =AVERAGE(H31,E31) -> 7.5152559 | L31: =AVERAGE(I31,F31) -> 5.0301011
B32: 4190 | C32: Interfund I.S. | D32: 171834 | E32: =D32/B55 -> 30.591775 | F32: =D32/E55 -> 20.444259 | G32: 225254 | H32: =G32/B56 -> 39.981186 | I32: =G32/E55 -> 26.8 | J32: =AVERAGE(G32,D32) -> 198544 | K32: =AVERAGE(H32,E32) -> 35.28648 | L32: =AVERAGE(I32,F32) -> 23.62213
B33: 4230 | C33: Communications | D33: 10626 | E33: =D33/B55 -> 1.8917572 | F33: =D33/E55 -> 1.2642475 | G33: 10972 | H33: =G33/B56 -> 1.9474618 | I33: =G33/E55 -> 1.3054134 | J33: =AVERAGE(G33,D33) -> 10799 | K33: =AVERAGE(H33,E33) -> 1.9196095 | L33: =AVERAGE(I33,F33) -> 1.2848305
B34: 4310 | C34: Travel | D34: 13424 | E34: =D34/B55 -> 2.3898878 | F34: =D34/E55 -> 1.5971446 | G34: 9767 | H34: =G34/B56 -> 1.7335818 | I34: =G34/E55 -> 1.1620464 | J34: =AVERAGE(G34,D34) -> 11595.5 | K34: =AVERAGE(H34,E34) -> 2.0617348 | L34: =AVERAGE(I34,F34) -> 1.3795955
B35: 4361 | C35: Meals | D35: 515 | E35: =D35/B55 -> 0.091685953 | F35: =D35/E55 -> 0.061273052 | G35: 532 | H35: =G35/B56 -> 0.094426695 | I35: =G35/E55 -> 0.063295657 | J35: =AVERAGE(G35,D35) -> 523.5 | K35: =AVERAGE(H35,E35) -> 0.093056324 | L35: =AVERAGE(I35,F35) -> 0.062284355
B36: 4410 | C36: Advertising | D36: 8215 | E36: =D36/B55 -> 1.4625245 | F36: =D36/E55 -> 0.97739441 | G36: 8483 | H36: =G36/B56 -> 1.5056798 | I36: =G36/E55 -> 1.0092802 | J36: =AVERAGE(G36,D36) -> 8349 | K36: =AVERAGE(H36,E36) -> 1.4841021 | L36: =AVERAGE(I36,F36) -> 0.9933373
B37: 4510 | C37: Rentals | D37: 215000 | E37: =D37/B55 -> 38.27666 | F37: =D37/E55 -> 25.580012 | G37: 162000 | H37: =G37/B56 -> 28.753994 | I37: =G37/E55 -> 19.274242 | J37: =AVERAGE(G37,D37) -> 188500 | K37: =AVERAGE(H37,E37) -> 33.515327 | L37: =AVERAGE(I37,F37) -> 22.427127
B38: 4511 | C38: Interfund Eq. | D38: 21522 | E38: =D38/B55 -> 3.8315827 | F38: =D38/E55 -> 2.5606187 | G38: 22224 | H38: =G38/B56 -> 3.9446219 | I38: =G38/E55 -> 2.6441404 | J38: =AVERAGE(G38,D38) -> 21873 | K38: =AVERAGE(H38,E38) -> 3.8881023 | L38: =AVERAGE(I38,F38) -> 2.6023795
B39: 4610 | C39: Insurance | D39: 467830 | E39: =D39/B55 -> 83.288232 | F39: =D39/E55 -> 55.660916 | G39: 213400 | H39: =G39/B56 -> 37.877174 | I39: =G39/E55 -> 25.389649 | J39: =AVERAGE(G39,D39) -> 340615 | K39: =AVERAGE(H39,E39) -> 60.582703 | L39: =AVERAGE(I39,F39) -> 40.525283
B40: 4700 | C40: Utilities | D40: 33196 | E40: =D40/B55 -> 5.9099163 | F40: =D40/E55 -> 3.9495538 | G40: 34278 | H40: =G40/B56 -> 6.0841321 | I40: =G40/E55 -> 4.0782867 | J40: =AVERAGE(G40,D40) -> 33737 | K40: =AVERAGE(H40,E40) -> 5.9970242 | L40: =AVERAGE(I40,F40) -> 4.0139203
B41: 4810 | C41: Maintenance | D41: 1122000 | E41: =D41/B55 -> 199.75076 | F41: =D41/E55 -> 133.49197 | G41: 1300000 | H41: =G41/B56 -> 230.74192 | I41: =G41/E55 -> 154.66984 | J41: =AVERAGE(G41,D41) -> 1211000 | K41: =AVERAGE(H41,E41) -> 215.24634 | L41: =AVERAGE(I41,F41) -> 144.0809
B42: 4811 | C42: Interfund Shop | D42: 26957 | E42: =D42/B55 -> 4.7991811 | F42: =D42/E55 -> 3.2072576 | G42: 27836 | H42: =G42/B56 -> 4.9407171 | I42: =G42/E55 -> 3.3118382 | J42: =AVERAGE(G42,D42) -> 27396.5 | K42: =AVERAGE(H42,E42) -> 4.8699491 | L42: =AVERAGE(I42,F42) -> 3.2595479
B43: 4910 | C43: Misc. | D43: 100195 | E43: =D43/B55 -> 17.837814 | F43: =D43/E55 -> 11.92088 | G43: 127821 | H43: =G43/B56 -> 22.687433 | I43: =G43/E55 -> 15.207733 | J43: =AVERAGE(G43,D43) -> 114008 | K43: =AVERAGE(H43,E43) -> 20.262624 | L43: =AVERAGE(I43,F43) -> 13.564307
...

Sheet 2027 Operating Runs
A1: 2027 Est.Operating Runs - Preliminary 06JULY2026
B2: Nonpeak Base | C2: Peak Base
A3: Sun. | B3: 33 | C3: 19
A4: Runs/Day | B4: 18 | C4: 22
A5: Subtotal | B5: =B3*B4 -> 594 | C5: =C3*C4 -> 418
A6: Mon. | B6: =52-C6 -> 33 | C6: 19
A7: Runs/Day | B7: 23 | C7: 23
A8: Subtotal | B8: =B6*B7 -> 759 | C8: =C6*C7 -> 437
A9: Tues. | B9: =52-C9 -> 33 | C9: 19
A10: Runs/Day | B10: 23 | C10: 23
A11: Subtotal | B11: =B9*B10 -> 759 | C11: =C9*C10 -> 437
A12: Wed. | B12: 33 | C12: 19
A13: Runs/Day | B13: 23 | C13: 23
A14: Subtotal | B14: =B12*B13 -> 759 | C14: =C12*C13 -> 437
A15: Thurs. | B15: 32 | C15: 20
A16: Runs/Day | B16: 23 | C16: 23
A17: Subtotal | B17: =B15*B16 -> 736 | C17: =C15*C16 -> 460
A18: Fri. | B18: 34 | C18: 19
A19: Runs/Day | B19: 26 | C19: 26
A20: Total | B20: =B18*B19 -> 884 | C20: =C18*C19 -> 494
A21: Sat. | B21: =52-C21 -> 33 | C21: 19
A22: Hrs/Day | B22: 23 | C22: 25
A23: Subtotal | B23: =B21*B22 -> 759 | C23: =C21*C22 -> 475
A24: Total | B24: =B5+B8+B11+B14+B17+B20+B23 -> 5250 | C24: =C5+C8+C11+C14+C17+C20+C23 -> 3158 | D24: =C24+B24 -> 8408

Sheet 2027 Operating Hours
A1: 2027 Est.Operating Hours - Preliminary 06JULY2026
B2: Nonpeak Base | C2: Peak Base
A3: Sun. | B3: 33 | C3: 19
A4: Hrs/Day | B4: 13 | C4: 15
A5: Subtotal | B5: =B3*B4 -> 429 | C5: =C3*C4 -> 285
A6: Mon. | B6: =52-C6 -> 33 | C6: 19
A7: Hrs/Day | B7: 15 | C7: 15
A8: Subtotal | B8: =B6*B7 -> 495 | C8: =C6*C7 -> 285
A9: Tues. | B9: 33 | C9: 19
A10: Hrs/Day | B10: 15 | C10: 15
A11: Subtotal | B11: =B9*B10 -> 495 | C11: =C9*C10 -> 285
A12: Wed. | B12: =53-C12 -> 34 | C12: 19
A13: Hrs/Day | B13: 15 | C13: 15
A14: Subtotal | B14: =B12*B13 -> 510 | C14: =C12*C13 -> 285
A15: Thurs. | B15: 32 | C15: 20
A16: Hrs/Day | B16: 15 | C16: 15
A17: Subtotal | B17: =B15*B16 -> 480 | C17: =C15*C16 -> 300
A18: Fri. | B18: 34 | C18: 19
A19: Hrs/Day | B19: 17 | C19: 17
A20: Total | B20: =B18*B19 -> 578 | C20: =C18*C19 -> 323
A21: Sat. | B21: =52-C21 -> 33 | C21: 19
A22: Hrs/Day | B22: 17 | C22: 17
A23: Subtotal | B23: =B21*B22 -> 561 | C23: =C21*C22 -> 323
A24: Total | B24: =B5+B8+B11+B14+B17+B20+B23 -> 3548 | C24: =C5+C8+C11+C14+C17+C20+C23 -> 2086 | D24: =C24+B24 -> 5634

Sheet 2026 Operating Runs 
A1: 2026 Est. Operating Runs - Preliminary 06JULY2026
B2: Nonpeak Base | C2: Peak Base
A3: Sun. | B3: 33 | C3: 19
A4: Runs/Day | B4: 18 | C4: 22
A5: Subtotal | B5: =B3*B4 -> 594 | C5: =C3*C4 -> 418
A6: Mon. | B6: 33 | C6: 19
A7: Runs/Day | B7: 23 | C7: 23
A8: Subtotal | B8: =B6*B7 -> 759 | C8: =C6*C7 -> 437
A9: Tues. | B9: 33 | C9: 19
A10: Runs/Day | B10: 23 | C10: 23
A11: Subtotal | B11: =B9*B10 -> 759 | C11: =C9*C10 -> 437
A12: Wed. | B12: 32 | C12: 20
A13: Runs/Day | B13: 23 | C13: 23
A14: Subtotal | B14: =B12*B13 -> 736 | C14: =C12*C13 -> 460
A15: Thurs. | B15: 34 | C15: 19
A16: Runs/Day | B16: 23 | C16: 23
A17: Subtotal | B17: =B15*B16 -> 782 | C17: =C15*C16 -> 437
A18: Fri. | B18: 33 | C18: 19
A19: Runs/Day | B19: 26 | C19: 26
A20: Total | B20: =B18*B19 -> 858 | C20: =C18*C19 -> 494
A21: Sat. | B21: 33 | C21: 19
A22: Hrs/Day | B22: 23 | C22: 25
A23: Subtotal | B23: =B21*B22 -> 759 | C23: =C21*C22 -> 475
A24: Total | B24: =B5+B8+B11+B14+B17+B20+B23 -> 5247 | C24: =C5+C8+C11+C14+C17+C20+C23 -> 3158 | D24: =C24+B24 -> 8405

Sheet 2026 Operating Hours
A1: 2026 Est.Operating Hours - Preliminary 06JULY2026
B2: Nonpeak Base | C2: Peak Base
A3: Sun. | B3: 33 | C3: 19
A4: Hrs/Day | B4: 13 | C4: 15
A5: Subtotal | B5: =B3*B4 -> 429 | C5: =C3*C4 -> 285
A6: Mon. | B6: =52-C6 -> 33 | C6: 19
A7: Hrs/Day | B7: 15 | C7: 15
A8: Subtotal | B8: =B6*B7 -> 495 | C8: =C6*C7 -> 285
A9: Tues. | B9: 33 | C9: 19
A10: Hrs/Day | B10: 15 | C10: 15
A11: Subtotal | B11: =B9*B10 -> 495 | C11: =C9*C10 -> 285
A12: Wed. | B12: 32 | C12: 20
A13: Hrs/Day | B13: 15 | C13: 15
A14: Subtotal | B14: =B12*B13 -> 480 | C14: =C12*C13 -> 300
A15: Thurs. | B15: 34 | C15: 19
A16: Hrs/Day | B16: 15 | C16: 15
A17: Subtotal | B17: =B15*B16 -> 510 | C17: =C15*C16 -> 285
A18: Fri. | B18: 33 | C18: 19
A19: Hrs/Day | B19: 17 | C19: 17
A20: Total | B20: =B18*B19 -> 561 | C20: =C18*C19 -> 323
A21: Sat. | B21: =52-C21 -> 33 | C21: 19
A22: Hrs/Day | B22: 17 | C22: 17
A23: Subtotal | B23: =B21*B22 -> 561 | C23: =C21*C22 -> 323
A24: Total | B24: =B5+B8+B11+B14+B17+B20+B23 -> 3531 | C24: =C5+C8+C11+C14+C17+C20+C23 -> 2086 | D24: =C24+B24 -> 5617

Sheet 2025 Co. Ferry Ops Report

Sheet Youth Grant

Sheet CPI - Baseline Forecast, Annual
B2: OERF Seattle MSA CPI-U and CPI-W, baseline scenario forecast, March 2026. Forecasted values are shaded
C4: Seattle MSA CPI-U | G4: Seattle MSA CPI-W
C5: index | D5: % change | G5: index | H5: % change
C6: 1982-84=100 | D6: year-over-year | G6: 1982-84=100 | H6: year-over-year
B7: 2000 | C7: 179.2 | F7: 2000 | G7: 174.6
B8: 2001 | C8: 185.7 | D8: =(C8/C7)-1 -> 0.036272321 | F8: 2001 | G8: 180.8 | H8: =(G8/G7)-1 -> 0.035509737
B9: 2002 | C9: 189.3 | D9: =(C9/C8)-1 -> 0.019386107 | F9: 2002 | G9: 184 | H9: =(G9/G8)-1 -> 0.017699115
B10: 2003 | C10: 192.3 | D10: =(C10/C9)-1 -> 0.015847861 | F10: 2003 | G10: 186.7 | H10: =(G10/G9)-1 -> 0.014673913
B11: 2004 | C11: 194.7 | D11: =(C11/C10)-1 -> 0.012480499 | F11: 2004 | G11: 189.6 | H11: =(G11/G10)-1 -> 0.015532941
B12: 2005 | C12: 200.2 | D12: =(C12/C11)-1 -> 0.028248588 | F12: 2005 | G12: 195.3 | H12: =(G12/G11)-1 -> 0.030063291
B13: 2006 | C13: 207.6 | D13: =(C13/C12)-1 -> 0.036963037 | F13: 2006 | G13: 202.6 | H13: =(G13/G12)-1 -> 0.037378392
B14: 2007 | C14: 215.656 | D14: =(C14/C13)-1 -> 0.038805395 | F14: 2007 | G14: 210.266 | H14: =(G14/G13)-1 -> 0.037838105
B15: 2008 | C15: 224.719 | D15: =(C15/C14)-1 -> 0.042025262 | F15: 2008 | G15: 219.692 | H15: =(G15/G14)-1 -> 0.044828931
B16: 2009 | C16: 226.028 | D16: =(C16/C15)-1 -> 0.0058250526 | F16: 2009 | G16: 220.658 | H16: =(G16/G15)-1 -> 0.004397065
B17: 2010 | C17: 226.6925 | D17: =(C17/C16)-1 -> 0.0029399013 | F17: 2010 | G17: 222.3835 | H17: =(G17/G16)-1 -> 0.0078197935
B18: 2011 | C18: 232.765 | D18: =(C18/C17)-1 -> 0.026787388 | F18: 2011 | G18: 229.435 | H18: =(G18/G17)-1 -> 0.031708737
B19: 2012 | C19: 238.6625 | D19: =(C19/C18)-1 -> 0.025336713 | F19: 2012 | G19: 235.2615 | H19: =(G19/G18)-1 -> 0.025394992
... B37: 2030 | C37: 415.77955 | D37: =(C37/C36)-1 -> 0.020910045 | F37: 2030 | G37: 408.35699 | H37: =(G37/G36)-1 -> 0.020946336
B38: 2031 | C38: 424.54754 | D38: =(C38/C37)-1 -> 0.021088086 | F38: 2031 | G38: 417.03127

